BEGIN:VCALENDAR
VERSION:2.0
PRODID:-//hacksw/handcal//NONSGML v1.0//EN
BEGIN:VEVENT
SUMMARY:Olympiades ENP
UID:4bfc3aa1-cecd-4a9f-903b-215e14700dca
DTSTART:20240223T230000Z
DTEND:20240224T230000Z
LOCATION:Localisation   
CATEGORIES:Sportif
STATUS:
URL;VALUE=URI:https://www.espoirnautiquepontivy.com/evenements/2024/02/24/olympiades-enp-1960025
END:VEVENT
END:VCALENDAR
