BEGIN:VCALENDAR
VERSION:2.0
PRODID:-//hacksw/handcal//NONSGML v1.0//EN
BEGIN:VEVENT
SUMMARY:Meeting Maitres
UID:e7f17ed5-8462-45ed-9cd9-057184cf576a
DTSTART:20240203T230000Z
DTEND:20240204T230000Z
LOCATION:Localisation Piscine de Brequigny, 12 boulevard Albert 1er 35000 Rennes
CATEGORIES:Sportif
STATUS:
DESCRIPTION:<p><strong><span style="font-size:48px;"><a
 href="https://docs.google.com/spreadsheets/d/158fCJja_3yYvvsBASiFMcUapf1SPspTe/edit#gid=276120364"
 target="_blank" rel="noreferrer noopener">CHOIX DES
 NAGES</a></span></strong></p>
 
URL;VALUE=URI:https://www.espoirnautiquepontivy.com/evenements/2024/02/04/meeting-maitres-1960011
END:VEVENT
END:VCALENDAR
