BEGIN:VCALENDAR
VERSION:2.0
PRODID:-//hacksw/handcal//NONSGML v1.0//EN
BEGIN:VEVENT
SUMMARY:Final Tour Benjamins - Chartres
UID:7e91559f-f361-4533-90df-1212ce0c8c85
DTSTART:20231202T063000Z
DTEND:20231203T230000Z
LOCATION:Localisation   
CATEGORIES:Sportif
STATUS:
URL;VALUE=URI:https://www.espoirnautiquepontivy.com/evenements/2023/12/02/final-tour-benjamins-chartres-1917313
END:VEVENT
END:VCALENDAR
