BEGIN:VCALENDAR
VERSION:2.0
PRODID:-//hacksw/handcal//NONSGML v1.0//EN
BEGIN:VEVENT
SUMMARY:Reunion information sur le deroulement de l'annee 
UID:4778b384-d4e0-47a8-850b-7b3f334cac5a
DTSTART:20230923T090000Z
DTEND:20230923T093000Z
LOCATION:Localisation   
CATEGORIES:Sportif
STATUS:
URL;VALUE=URI:https://www.espoirnautiquepontivy.com/evenements/2023/09/23/reunion-information-sur-le-deroulement-de-lannee-1873294
END:VEVENT
END:VCALENDAR
