BEGIN:VCALENDAR
VERSION:2.0
PRODID:-//hacksw/handcal//NONSGML v1.0//EN
BEGIN:VEVENT
SUMMARY:Eau Libre
UID:f742dd76-f333-4f64-a90f-881ac37db615
DTSTART:20230812T220000Z
DTEND:20230813T220000Z
LOCATION:Localisation   
CATEGORIES:Sportif
STATUS:
URL;VALUE=URI:https://www.espoirnautiquepontivy.com/evenements/2023/08/13/eau-libre-1801589
END:VEVENT
END:VCALENDAR
