BEGIN:VCALENDAR
VERSION:2.0
PRODID:-//hacksw/handcal//NONSGML v1.0//EN
BEGIN:VEVENT
SUMMARY:Yaouank #4
UID:b6937c8e-74e5-4968-8ef0-ffde6c2a4000
DTSTART:20230512T220000Z
DTEND:20230513T220000Z
LOCATION:Localisation 27 rue du bois du chateau 56100 Lorient
CATEGORIES:Sportif
STATUS:
DESCRIPTION:<p>Programme<em> (en cours)</em></p>
 
 <p>Besoin
 d'officiels et d'encadrants</p>
 
URL;VALUE=URI:https://www.espoirnautiquepontivy.com/evenements/2023/05/13/yaouank-4-1696662
END:VEVENT
END:VCALENDAR
