BEGIN:VCALENDAR
VERSION:2.0
PRODID:-//hacksw/handcal//NONSGML v1.0//EN
BEGIN:VEVENT
SUMMARY:Plot Avenirs #3
UID:83c54550-aef3-4d5b-a56a-320c3e96166e
DTSTART:20230512T220000Z
DTEND:20230513T220000Z
LOCATION:Localisation 27 rue du bois du chateau 56100 Lorient
CATEGORIES:Sportif
STATUS:
DESCRIPTION:<p>Programme<em> (en cours)</em></p>
 
 <p>Besoin
 d'officiels et d'encadrants</p>
 
URL;VALUE=URI:https://www.espoirnautiquepontivy.com/evenements/2023/05/13/plot-avenirs-3-1696664
END:VEVENT
END:VCALENDAR
