BEGIN:VCALENDAR
VERSION:2.0
PRODID:-//hacksw/handcal//NONSGML v1.0//EN
BEGIN:VEVENT
SUMMARY:Maintient seance du samedi
UID:230efa9e-5066-448d-a0a4-972f9408a90a
DTSTART:20230414T220000Z
DTEND:20230415T220000Z
LOCATION:Localisation   
CATEGORIES:Sportif
STATUS:
URL;VALUE=URI:https://www.espoirnautiquepontivy.com/evenements/2023/04/15/maintient-seance-du-samedi-1801407
END:VEVENT
END:VCALENDAR
