BEGIN:VCALENDAR
VERSION:2.0
PRODID:-//hacksw/handcal//NONSGML v1.0//EN
BEGIN:VEVENT
SUMMARY:Championnats de Printemps de l'Ouest
UID:0801cecb-ee49-4bb7-beb6-c13c3a4b9ed4
DTSTART:20230323T230000Z
DTEND:20230326T230000Z
LOCATION:Localisation   
CATEGORIES:Sportif
STATUS:
URL;VALUE=URI:https://www.espoirnautiquepontivy.com/evenements/2023/03/24/championnats-de-printemps-de-louest-1747646
END:VEVENT
END:VCALENDAR
