BEGIN:VCALENDAR
VERSION:2.0
PRODID:-//hacksw/handcal//NONSGML v1.0//EN
BEGIN:VEVENT
SUMMARY:Meeting d’hiver des Maitres de Rennes natation 
UID:094a9dea-2994-4125-9d29-6246d94a791e
DTSTART:20230205T073000Z
DTEND:20230205T170000Z
LOCATION:Localisation Piscine de Breguigny, 12 boulevard Albert 1er 35000 Rennes
CATEGORIES:Sportif
STATUS:
URL;VALUE=URI:https://www.espoirnautiquepontivy.com/evenements/2023/02/05/meeting-dhiver-des-maitres-de-rennes-natation-1764256
END:VEVENT
END:VCALENDAR
