BEGIN:VCALENDAR
VERSION:2.0
PRODID:-//hacksw/handcal//NONSGML v1.0//EN
BEGIN:VEVENT
SUMMARY:Plot 1 des Maitres 
UID:9fb812b5-b4f0-4f4e-a537-222acede2d4f
DTSTART:20230128T171500Z
DTEND:20230128T213000Z
LOCATION:Localisation   
CATEGORIES:Sportif
STATUS:
URL;VALUE=URI:https://www.espoirnautiquepontivy.com/evenements/2023/01/28/plot-1-des-maitres-1764252
END:VEVENT
END:VCALENDAR
