BEGIN:VCALENDAR
VERSION:2.0
PRODID:-//hacksw/handcal//NONSGML v1.0//EN
BEGIN:VEVENT
SUMMARY:Championnats Regionaux Open Maitres
UID:8e4fb16e-0f94-47f9-877e-e00f77126eac
DTSTART:20230115T064500Z
DTEND:20230115T170000Z
LOCATION:Localisation Centre aquatique Aquacia, allee des Primeveres 35270 COMBOURG
CATEGORIES:Sportif
STATUS:
URL;VALUE=URI:https://www.espoirnautiquepontivy.com/evenements/2023/01/15/championnats-regionaux-open-maitres-1753798
END:VEVENT
END:VCALENDAR
