BEGIN:VCALENDAR
VERSION:2.0
PRODID:-//hacksw/handcal//NONSGML v1.0//EN
BEGIN:VEVENT
SUMMARY:Interclubs regionaux TC 12/11/2022 Rennes
UID:90cfc052-43e6-4d07-810c-e8ac4ccc0c1e
DTSTART:20221111T230000Z
DTEND:20221112T230000Z
LOCATION:Localisation   
CATEGORIES:Sportif
STATUS:
URL;VALUE=URI:https://www.espoirnautiquepontivy.com/evenements/2022/11/12/interclubs-regionaux-tc-12112022-rennes-1644248
END:VEVENT
END:VCALENDAR
