BEGIN:VCALENDAR
VERSION:2.0
PRODID:-//hacksw/handcal//NONSGML v1.0//EN
BEGIN:VEVENT
SUMMARY:Challenge Avenir 56 #1
UID:3d7aa356-a0f6-4598-bdc0-db270957ef7d
DTSTART:20221105T230000Z
DTEND:20221106T230000Z
LOCATION:Localisation piscine municipale 56600 Caudan
CATEGORIES:Sportif
STATUS:
DESCRIPTION:<p><span style="font-size:14px;">Programme<em> (en
 cours)</em></span></p>
 
 <p><span style="font-size:16px;">Besoin
 d'officiels et d'encadrants</span></p>
 
URL;VALUE=URI:https://www.espoirnautiquepontivy.com/evenements/2022/11/06/challenge-avenir-56-1-1696590
END:VEVENT
END:VCALENDAR
