BEGIN:VCALENDAR
VERSION:2.0
PRODID:-//hacksw/handcal//NONSGML v1.0//EN
BEGIN:VEVENT
SUMMARY:Rentree Septembre 2022
UID:b01fbc3a-ff58-47b2-a432-8a974ea552b4
DTSTART:20220911T220000Z
DTEND:20220912T220000Z
LOCATION:Localisation   
CATEGORIES:Administratif
STATUS:
DESCRIPTION:<p>Bonjour a tous,</p>
 
 <p> </p>
 
 <p>La rentree se
 prepare et comme de nombreux clubs, nous n'avons toujours pas
 concretiser notre recrutement, mais la recherche est
 active.</p>
 
 <p>Cependant, les seances seront tout de meme assurees
 grace aux BF et aux benevoles a partir de la semaine 37.</p>
 
 <p>Nous
 avons besoin de savoir si vous renouvelez et/ou maintenez votre
 inscription. Afin de pouvoir etablir les differents groupes
 d'entrainements rapidement, nous souhaitons avoir votre reponse pour
 ce vendredi 2 septembre.</p>
 
 <p> </p>
 
 <p>Le bureau</p>
 
URL;VALUE=URI:https://www.espoirnautiquepontivy.com/evenements/2022/09/12/rentree-septembre-2022-1661459
END:VEVENT
END:VCALENDAR
