BEGIN:VCALENDAR
VERSION:2.0
PRODID:-//hacksw/handcal//NONSGML v1.0//EN
BEGIN:VEVENT
SUMMARY:Olympiades Avenirs 
UID:5640ebfb-8996-45b5-aa33-eaa24084fcd5
DTSTART:20220604T220000Z
DTEND:20220605T220000Z
LOCATION:Localisation   
CATEGORIES:Sportif
STATUS:
URL;VALUE=URI:https://www.espoirnautiquepontivy.com/evenements/2022/06/05/olympiades-avenirs-1630602
END:VEVENT
END:VCALENDAR
