BEGIN:VCALENDAR
VERSION:2.0
PRODID:-//hacksw/handcal//NONSGML v1.0//EN
BEGIN:VEVENT
SUMMARY:Yaouank 3 a Vannes
UID:0263d234-e8b6-49c7-8c07-17d11a2cec22
DTSTART:20220521T220000Z
DTEND:20220522T220000Z
LOCATION:Localisation   
CATEGORIES:Sportif
STATUS:
URL;VALUE=URI:https://www.espoirnautiquepontivy.com/evenements/2022/05/22/yaouank-3-a-vannes-1575251
END:VEVENT
END:VCALENDAR
