BEGIN:VCALENDAR
VERSION:2.0
PRODID:-//hacksw/handcal//NONSGML v1.0//EN
BEGIN:VEVENT
SUMMARY:KK
UID:cf5fc5b2-df19-4228-ae78-c7ebe5d3fc8c
DTSTART:20211016T220000Z
DTEND:20211017T220000Z
LOCATION:Localisation   
CATEGORIES:Sportif
STATUS:
URL;VALUE=URI:https://www.espoirnautiquepontivy.com/evenements/2021/10/17/kk-1541639
END:VEVENT
END:VCALENDAR
