BEGIN:VCALENDAR
VERSION:2.0
PRODID:-//hacksw/handcal//NONSGML v1.0//EN
BEGIN:VEVENT
SUMMARY:pas d'entrainement le 16 octobre 
UID:bf1be3f7-0e2d-4ef5-8f51-4965f20273e4
DTSTART:20211012T220000Z
DTEND:20211013T220000Z
LOCATION:Localisation   
CATEGORIES:Sportif
STATUS:
DESCRIPTION:<p style="text-align:center;"><span
 style="font-size:26px;">Pas d'entrainement<strong> samedi 16
 octobre</strong> pour cause de competition.</span></p>
 
URL;VALUE=URI:https://www.espoirnautiquepontivy.com/evenements/2021/10/13/pas-dentrainement-le-16-octobre-1540019
END:VEVENT
END:VCALENDAR
