BEGIN:VCALENDAR
VERSION:2.0
PRODID:-//hacksw/handcal//NONSGML v1.0//EN
BEGIN:VEVENT
SUMMARY:MEETING DE L’OUEST JEUNES LA ROCHE SUR YON
UID:548c43e9-246f-4424-9f46-024c07821b19
DTSTART:20210709T220000Z
DTEND:20210711T220000Z
LOCATION:Localisation   
CATEGORIES:Sportif
STATUS:
URL;VALUE=URI:https://www.espoirnautiquepontivy.com/evenements/2021/07/10/meeting-de-louest-jeunes-la-roche-sur-yon-1399302
END:VEVENT
END:VCALENDAR
