BEGIN:VCALENDAR
VERSION:2.0
PRODID:-//hacksw/handcal//NONSGML v1.0//EN
BEGIN:VEVENT
SUMMARY:Finale regionale Jeunes Yaouank a PONTIVY
UID:1f8b2cba-ef67-474d-85dd-340101bf8316
DTSTART:20210618T220000Z
DTEND:20210620T220000Z
LOCATION:Localisation   
CATEGORIES:Sportif
STATUS:
URL;VALUE=URI:https://www.espoirnautiquepontivy.com/evenements/2021/06/19/finale-regionale-jeunes-yaouank-a-pontivy-1410693
END:VEVENT
END:VCALENDAR
