BEGIN:VCALENDAR
VERSION:2.0
PRODID:-//hacksw/handcal//NONSGML v1.0//EN
BEGIN:VEVENT
SUMMARY:COUPE DE L’OUEST DES DEPARTEMENTS a CHINON
UID:7fe550e8-ef31-4388-bf57-acfe0052f82d
DTSTART:20210604T220000Z
DTEND:20210606T220000Z
LOCATION:Localisation   chinon
CATEGORIES:Sportif
STATUS:
URL;VALUE=URI:https://www.espoirnautiquepontivy.com/evenements/2021/06/05/coupe-de-louest-des-departements-a-chinon-1399301
END:VEVENT
END:VCALENDAR
