BEGIN:VCALENDAR
VERSION:2.0
PRODID:-//hacksw/handcal//NONSGML v1.0//EN
BEGIN:VEVENT
SUMMARY:MEETING NATIONAL DE L’OUEST PRINTEMPS N3
UID:ed614cd2-693e-44ad-92a6-100070aa6585
DTSTART:20210527T220000Z
DTEND:20210530T220000Z
LOCATION:Localisation   Saint malo
CATEGORIES:Sportif
STATUS:
URL;VALUE=URI:https://www.espoirnautiquepontivy.com/evenements/2021/05/28/meeting-national-de-louest-printemps-n3-1399300
END:VEVENT
END:VCALENDAR
