BEGIN:VCALENDAR
VERSION:2.0
PRODID:-//hacksw/handcal//NONSGML v1.0//EN
BEGIN:VEVENT
SUMMARY:Inscription : Je nage ou  je prends des cours a la piscine de La plage
UID:c773bea5-97e8-4155-8a4d-e0c321ed340f
DTSTART:20210516T220000Z
DTEND:20210517T220000Z
LOCATION:Localisation   
CATEGORIES:Sportif
STATUS:
DESCRIPTION:<p><u><span style="font-size:18px;"><strong>OUVERTURE DES
 INSCRIPTIONS</strong></span></u><span
 style="font-size:18px;"><strong>   </strong></span><span
 style="font-size:48px;"><strong><a
 href="https://www.espoirnautiquepontivy.com/evenements/2021/04/26/inscription--je-nage-ou--je-prends-des-cours-a-la-piscine-de-la-plage-1480914"
 target="_blank" rel="noreferrer
 noopener">ici</a></strong></span></p>
 
 <p><span
 style="color:#c0392b;"><em><span style="font-size:18px;"><strong>Le
 couvre-feu evoluant a partir du 19 mai nous proposons une adaptation
 des seances avant cette date (voir planning ci-dessous dans
 document)</strong></span></em></span></p>
 
 <p><span
 style="color:#16a085;"><span style="font-size:20px;"><strong>Comment
 faire pour prendre des cours ou venir
 nager ?</strong></span></span></p>
 
 <p><span
 style="font-size:16px;">> Pour les cours demander par mail votre
 creneau(secretaire.enp@gmail.com), suite a la reponse remplissez le
 dossier d'inscription en ligne ci-dessous et presenter vous aux
 horaires d'ouverture. Notre maitre nageur viendra ouvrir la porte
 principale 10 minutes avant le debut du creneau.</span></p>
 
 <p><span
 style="color:#16a085;"><span style="font-size:20px;"><strong>Quels
 sont les cours proposes?</strong></span></span></p>
 
 <p><span
 style="font-size:16px;"><span style="font-family:Cambria;"><span
 style="font-family:'Comic Sans MS';">> Nous nous adaptons aux
 conditions saniataires, si le couvre feu est leve ou decale nous
 pourrons vous proposer d'autres creneaux</span></span><span
 style="font-family:Cambria;"><span style="font-family:'Comic Sans
 MS';">. N'hesitez pas a nous consulter
 regulierement.</span></span></span></p>
 
 <p>Cours enfant:
 apprentissage ou perfectionnement</p>
 
 <table
 class="MsoTableLightGridAccent5" style="height:159px;"
 width="657">
 	<tbody>
 		<tr>
 			<td
 style="width:90px;background-color:#8db3e2;" valign="top">
 			<p
 align="center" style="text-align:center;"><span
 style="font-size:16px;"><span style="font-family:Cambria;"><b><span
 style="font-family:'Comic Sans MS';">cours
 enfant</span></b></span></span></p>
 
 			<p align="center"
 style="text-align:center;"><span style="font-size:16px;"><span
 style="font-family:Cambria;"><b><span style="font-family:'Comic Sans
 MS';">de 45minutes</span></b></span></span></p>
 			</td>
 			<td
 style="width:140px;background-color:#c6d9f1;"
 valign="top">
 			<p><span style="font-size:16px;"><span
 style="font-family:Cambria;"><b><span style="font-family:'Comic Sans
 MS';">Lundi: </span></b><span style="font-family:'Comic Sans
 MS';">17h-17h45 perfectionnement </span></span></span><span
 style="font-size:12pt;"><span style="font-family:Cambria;"><span
 style="font-size:16pt;"><span style="font-family:'Comic Sans
 MS';"><span style="font-size:14px;">sauf le 12 et 17 mai voir
 planning</span></span></span></span></span></p>
 
 			<p><span
 style="font-size:16px;"><span style="font-family:Cambria;"><b><span
 style="font-family:'Comic Sans
 MS';">Mercredi</span></b></span></span><span
 style="font-size:16px;"><span style="font-family:Cambria;"><span
 style="font-family:'Comic Sans MS';"> :11h-12h</span><i><span
 style="font-family:'Comic Sans MS';"> apprentissage
 COMPLET</span></i></span></span></p>
 
 			<p><span
 style="font-size:16px;"><span style="font-family:Cambria;"><b><span
 style="font-family:'Comic Sans MS';">Jeudi</span></b><span
 style="font-family:'Comic Sans MS';"> : 17h-17h45 et
 18h-18h45</span></span></span></p>
 			</td>
 		</tr>
 	</tbody>
 </table>
 
 <p>Cours
 adulte: apprentissage, perfectionnement et
 Aquagym-detente</p>
 
 <table class="MsoTableGrid"
 style="height:193px;" width="707">
 	<tbody>
 		<tr>
 			<td
 style="width:118px;background-color:#b2a1c7;" valign="top">
 			<p
 align="center" style="text-align:center;"><span
 style="font-size:16px;"><span style="font-family:Cambria;"><b><span
 style="font-family:'Comic Sans MS';">cours
 adulte</span></b></span></span></p>
 
 			<p align="center"
 style="text-align:center;"><span style="font-size:16px;"><span
 style="font-family:Cambria;"><b><span style="font-family:'Comic Sans
 MS';">de 45minutes</span></b></span></span></p>
 			</td>
 			<td
 style="width:118px;background-color:#ccc0d9;" valign="top">
 			<p
 style="text-align:center;"><span style="font-size:16px;"><span
 style="font-family:Cambria;"><b><span style="font-family:'Comic Sans
 MS';">Mercredi</span></b></span></span></p>
 
 			<p align="center"
 style="text-align:center;"><span style="font-size:12pt;"><span
 style="font-family:Cambria;"><span style="font-size:16pt;"><span
 style="font-family:'Comic Sans MS';"><span
 style="font-size:16px;">19h-19h45 </span><span
 style="font-size:14px;">(apprentissage/perfectionnement selon la
 demande) sauf le 12 mai
 18h-18h45</span></span></span></span></span></p>
 
 			<p
 align="center" style="text-align:center;"><span
 style="font-size:16px;"><span style="font-family:Cambria;"><b><span
 style="font-family:'Comic Sans
 MS';">Jeudi</span></b></span></span></p>
 
 			<p align="center"
 style="text-align:center;"><span style="font-size:16px;"><span
 style="font-family:Cambria;"><span style="font-family:'Comic Sans
 MS';">19h-19h45 (aquagym) </span></span></span><span
 style="font-size:12pt;"><span style="font-family:Cambria;"><span
 style="font-size:16pt;"><span style="font-family:'Comic Sans
 MS';"><span style="font-size:14px;">sauf le 13 mai
 18h-18h45</span></span></span></span></span></p>
 			</td>
 		</tr>
 	</tbody>
 </table>
 
 <p> </p>
 
 <p><span
 style="color:#16a085;"><span style="font-size:20px;"><strong>ou Quand
 puis-je nager?</strong></span></span></p>
 
 <p><span
 style="font-size:16px;">><span style="font-family:Cambria;"><span
 style="font-family:'Comic Sans MS';"> Nous nous adaptons aux
 conditions saniataires, si le couvre feu est leve ou decale nous
 pourrons vous proposer d'autres creneaux. N'hesitez pas a nous
 consulter regulierement.</span></span></span></p>
 
 <p> </p>
 
 <table
 class="MsoTableLightGridAccent5" style="height:184px;"
 width="467">
 	<tbody>
 		<tr>
 			<td
 style="width:90px;background-color:#d6e3bc;" valign="top">
 			<p
 align="center" style="text-align:center;"><span
 style="font-size:16px;"><span style="font-family:Cambria;"><b><span
 style="font-family:'Comic Sans
 MS';">Ouverture</span></b></span></span></p>
 
 			<p align="center"
 style="text-align:center;"><span style="font-size:16px;"><span
 style="font-family:Cambria;"><b><span style="font-family:'Comic Sans
 MS';">pour venir nager</span></b></span></span></p>
 
 			<p
 align="center" style="text-align:center;"><span
 style="font-size:16px;"><span style="font-family:Cambria;"><b><span
 style="font-family:'Comic Sans MS';">tout
 niveau</span></b></span></span></p>
 			</td>
 			<td
 style="width:140px;background-color:#eaf1dd;" valign="top">
 			<p
 align="center" style="text-align:center;"><span
 style="font-size:16px;"><span style="font-family:Cambria;"><b><span
 style="font-family:'Comic Sans
 MS';">Lundi-Mardi-Jeudi-vendredi</span></b></span></span></p>
 
 			<p
 align="center" style="text-align:center;"><span
 style="font-size:16px;"><span style="font-family:Cambria;"><span
 style="font-family:'Comic Sans
 MS';">12h-13h45</span></span></span></p>
 			</td>
 		</tr>
 	</tbody>
 </table>
 
 <p><span
 style="color:#16a085;"><span style="font-size:20px;"><strong>Combien
 cela coute ?</strong></span></span></p>
 
 <p><span
 style="font-size:16px;">> Prix fixe de <strong>60€
 </strong></span></p>
 
 <p><span style="font-size:16px;"><strong>nage:
 </strong>vous pouvez venir autant de fois que vous le souhaitez par
 semaine sur les creneaux prevus a cet effet entre le 9 mai et le 3
 juillet.</span></p>
 
 <p><span style="font-size:16px;"><strong>cours:
 </strong>un cours par semaine, soit 8 cours,sur les creneaux prevus
 ,entre le 10 mai et le 3 juillet.</span></p>
 
 <p><span
 style="font-size:16px;"><span style="font-family:Cambria;"><span
 style="font-family:'Comic Sans MS';">En cas de reconfinement, Nous
 rembourserons  7,5€/ semaine fermee pour la nage libre ou 7,5€/
 cours</span></span></span></p>
 
 <p
 style="text-align:justify;"> </p>
 
 <p
 style="text-align:justify;"><span style="color:#16a085;"><span
 style="font-size:20px;"><strong>Quelles sont les conditions
 sanitaires?</strong></span></span></p>
 
 <p><span
 style="font-size:12px;"><span style="font-family:Cambria;"><b><span
 style="font-family:'Comic Sans MS';">         </span><u><span
 style="font-family:'Comic Sans MS';">Avant de venir
 </span></u></b><span style="font-family:'Comic Sans MS';">: Verifier
 votre temperature,ne pas venir en cas de symptomes (essoufflement,
 toux, cephalees, ..voir le <a
 href="https://admin.sportsregions.fr/media/uploaded/sites/7487/kcupload/files/doc/5f34ec815c4ae_questionnairenageuravantentrainement(1).pdf"
 target="_blank" rel="noreferrer noopener">questionnaire COVID)</a>.
 </span></span></span></p>
 
 <p><span style="font-size:12px;"><span
 style="font-family:Cambria;"><b><span style="font-family:'Comic Sans
 MS';">         </span><u><span style="font-family:'Comic Sans
 MS';">Arrivee </span></u></b><span style="font-family:'Comic Sans
 MS';">: l’entree se fait par la porte principale, le coach viendra
 ouvrir la porte 5 minutes avant le debut du creneau. Merci de
 patienter en respectant les gestes barrieres et le port du masque en
 attendant.</span></span></span></p>
 
 <p><span
 style="font-size:12px;"><span
 style="font-family:Cambria;"><b><u><span style="font-family:'Comic
 Sans MS';">Vestiaires :</span></u></b> <span
 style="font-family:'Comic Sans MS';">Les vestiaires individuels
 peuvent etre utilises.  On vous indiquera ou laisser votre sac,
 selon de nombre de participants </span></span></span></p>
 
 <p><span
 style="font-size:12px;"><span
 style="font-family:Cambria;"><b><u><span style="font-family:'Comic
 Sans MS';">Materiel </span></u></b><span style="font-family:'Comic
 Sans MS';">:Le materiel doit etre  individuel. Pour les cours, nous
 vous preterons le materiel necessaire mais celui-ci vous sera
 attribue pour toute la seance a titre
 individuel.</span></span></span></p>
 
 <p><span
 style="font-size:12px;"><span
 style="font-family:Cambria;"><b><u><span style="font-family:'Comic
 Sans MS';">Douche obligatoire</span></u></b><span
 style="font-family:'Comic Sans MS';"> avant d’entree dans
 l’eau.</span></span></span></p>
 
 <p><span
 style="font-size:12px;"><span
 style="font-family:Cambria;"><b><u><span style="font-family:'Comic
 Sans MS';">Sur le bord du bassin et dans l'eau</span></u></b><span
 style="font-family:'Comic Sans MS';">: Il est imperatif de garder vos
 distances (2m). Si vous avez une <b><u>gourde celle-ci doit etre
 individuelle</u></b> marquee a <b><u>votre prenom.</u></b> Ne pas
 vider les gourdes sur le bord du
 bassin.</span></span></span></p>
 
 <p><span
 style="font-size:12px;"><span
 style="font-family:Cambria;"><b><u><span style="font-family:'Comic
 Sans MS';">WC :</span></u></b><span style="font-family:'Comic Sans
 MS';"> Merci d’utiliser le gel hydro-alcoolique ou de vous laver
 les mains avec du savon <u>avant et apres</u> votre passage aux
 toilettes.</span></span></span></p>
 
 <p><span
 style="font-size:12px;"><span
 style="font-family:Cambria;"><b><u><span style="font-family:'Comic
 Sans MS';">Sortie :</span></u></b><span style="font-family:'Comic
 Sans MS';"> Veillez a ne rien laisser trainer au bord du bassin et
 sur la pelouse.  </span></span></span></p>
 
 <p><span
 style="font-size:12px;"><span style="font-family:Cambria;"><span
 style="font-family:'Comic Sans MS';"><b><u>Vols : </u></b>le bassin
 va etre utiliser par de nombreux clubs environnants, le club vous
 invite donc a ne pas apporter d’objet precieux et decline toute
 responsabilite en cas de vol.</span></span></span></p>
 
 <p><span
 style="font-size:12px;"><span style="font-family:Cambria;"><span
 style="font-family:'Comic Sans MS';"><b><u>Parents :</u></b> Les
 accompagnateurs ne sont pas admis durant le cours.
 </span></span></span></p>
 
 <p> </p>
 
 <p><em><strong><span
 style="font-size:12pt;"><span style="font-family:Cambria;"><span
 style="font-size:14pt;"><span style="font-family:'Comic Sans
 MS';">Plus d'informations:
 </span></span></span></span></strong></em><strong><span
 style="font-size:12pt;"><span style="font-family:Cambria;"><span
 style="font-size:14pt;"><span style="font-family:'Comic Sans
 MS';">mail:</span></span></span></span></strong><span
 style="font-size:18px;"><span style="font-family:Cambria;"><span
 style="font-family:'Comic Sans MS';"><span
 style="color:#2980b9;">secretaire.enp@gmail.com</span>
 -</span></span></span></p>
 
 <p><span style="font-size:18px;"><span
 style="font-family:Cambria;"><span style="font-family:'Comic Sans
 MS';"><strong>                         tel: 
 </strong></span></span><span style="color:#2980b9;">06 95 81 66 85
 </span></span></p>
 
 <p> </p>
 
 <p> </p>
 
URL;VALUE=URI:https://www.espoirnautiquepontivy.com/evenements/2021/05/17/inscription-je-nage-ou-je-prends-des-cours-a-la-piscine-de-la-plage-1480914
END:VEVENT
END:VCALENDAR
