BEGIN:VCALENDAR
VERSION:2.0
PRODID:-//hacksw/handcal//NONSGML v1.0//EN
BEGIN:VEVENT
SUMMARY:CHAMPIONNATS DE FRANCE N2 MELUN
UID:4c29e4b1-2f43-4d8e-9305-cc2c23534962
DTSTART:20210510T220000Z
DTEND:20210516T220000Z
LOCATION:Localisation   
CATEGORIES:Sportif
STATUS:
URL;VALUE=URI:https://www.espoirnautiquepontivy.com/evenements/2021/05/11/championnats-de-france-n2-melun-1399305
END:VEVENT
END:VCALENDAR
