BEGIN:VCALENDAR
VERSION:2.0
PRODID:-//hacksw/handcal//NONSGML v1.0//EN
BEGIN:VEVENT
SUMMARY:ouve
UID:bafc7f13-668b-4650-b03d-6cf9498877a8
DTSTART:20210425T220000Z
DTEND:20210426T220000Z
LOCATION:Localisation   
CATEGORIES:Sportif
STATUS:
URL;VALUE=URI:https://www.espoirnautiquepontivy.com/evenements/2021/04/26/ouve-1480835
END:VEVENT
END:VCALENDAR
