BEGIN:VCALENDAR
VERSION:2.0
PRODID:-//hacksw/handcal//NONSGML v1.0//EN
BEGIN:VEVENT
SUMMARY:ouv
UID:d9702dce-ac27-407c-9378-da24983ef340
DTSTART:20210425T220000Z
DTEND:20210426T220000Z
LOCATION:Localisation   
CATEGORIES:Sportif
STATUS:
URL;VALUE=URI:https://www.espoirnautiquepontivy.com/evenements/2021/04/26/ouv-1480836
END:VEVENT
END:VCALENDAR
