BEGIN:VCALENDAR
VERSION:2.0
PRODID:-//hacksw/handcal//NONSGML v1.0//EN
BEGIN:VEVENT
SUMMARY:CHAMPIONNATS DE FRANCE JUNIORS
UID:792f05bd-193b-485f-ad23-50ce12b1e66c
DTSTART:20210419T220000Z
DTEND:20210425T220000Z
LOCATION:Localisation   
CATEGORIES:Sportif
STATUS:
URL;VALUE=URI:https://www.espoirnautiquepontivy.com/evenements/2021/04/20/championnats-de-france-juniors-1399303
END:VEVENT
END:VCALENDAR
