BEGIN:VCALENDAR
VERSION:2.0
PRODID:-//hacksw/handcal//NONSGML v1.0//EN
BEGIN:VEVENT
SUMMARY:Master Printemps
UID:5e344d8a-71a5-45de-a74b-9793553418c4
DTSTART:20210410T220000Z
DTEND:20210411T220000Z
LOCATION:Localisation piscine  caudan
CATEGORIES:Sportif
STATUS:
URL;VALUE=URI:https://www.espoirnautiquepontivy.com/evenements/2021/04/11/master-printemps-1445273
END:VEVENT
END:VCALENDAR
