BEGIN:VCALENDAR
VERSION:2.0
PRODID:-//hacksw/handcal//NONSGML v1.0//EN
BEGIN:VEVENT
SUMMARY:Meeting National Rennes
UID:204fd310-bb1a-4b25-b4fd-c7f45f584508
DTSTART:20210402T220000Z
DTEND:20210404T220000Z
LOCATION:Localisation   
CATEGORIES:Sportif
STATUS:
URL;VALUE=URI:https://www.espoirnautiquepontivy.com/evenements/2021/04/03/meeting-national-rennes-1410686
END:VEVENT
END:VCALENDAR
